BEGIN:VCALENDAR
VERSION:2.0
PRODID:-//PER&Auml;MEREN RASTI - ECPv6.15.16//NONSGML v1.0//EN
CALSCALE:GREGORIAN
METHOD:PUBLISH
X-WR-CALNAME:PER&Auml;MEREN RASTI
X-ORIGINAL-URL:https://www.peramerenrasti.fi
X-WR-CALDESC:Tapahtumat PER&Auml;MEREN RASTI
REFRESH-INTERVAL;VALUE=DURATION:PT1H
X-Robots-Tag:noindex
X-PUBLISHED-TTL:PT1H
BEGIN:VTIMEZONE
TZID:Europe/Helsinki
BEGIN:DAYLIGHT
TZOFFSETFROM:+0200
TZOFFSETTO:+0300
TZNAME:EEST
DTSTART:20250330T010000
END:DAYLIGHT
BEGIN:STANDARD
TZOFFSETFROM:+0300
TZOFFSETTO:+0200
TZNAME:EET
DTSTART:20251026T010000
END:STANDARD
BEGIN:DAYLIGHT
TZOFFSETFROM:+0200
TZOFFSETTO:+0300
TZNAME:EEST
DTSTART:20260329T010000
END:DAYLIGHT
BEGIN:STANDARD
TZOFFSETFROM:+0300
TZOFFSETTO:+0200
TZNAME:EET
DTSTART:20261025T010000
END:STANDARD
BEGIN:DAYLIGHT
TZOFFSETFROM:+0200
TZOFFSETTO:+0300
TZNAME:EEST
DTSTART:20270328T010000
END:DAYLIGHT
BEGIN:STANDARD
TZOFFSETFROM:+0300
TZOFFSETTO:+0200
TZNAME:EET
DTSTART:20271031T010000
END:STANDARD
END:VTIMEZONE
BEGIN:VEVENT
DTSTART;TZID=Europe/Helsinki:20260514T080000
DTEND;TZID=Europe/Helsinki:20260514T150000
DTSTAMP:20260421T002041
CREATED:20260210T161453Z
LAST-MODIFIED:20260211T163114Z
UID:1462-1778745600-1778770800@www.peramerenrasti.fi
SUMMARY:Kansalliset Hela-Rastit 2026
DESCRIPTION:https://www.peramerenrasti.fi/tapahtumat/
URL:https://www.peramerenrasti.fi/event/kansalliset-hela-rastit-2026/
END:VEVENT
END:VCALENDAR